Package: appreci8R Version: 1.27.0 Command: F:\biocbuild\bbs-3.22-bioc\R\bin\R.exe CMD INSTALL appreci8R StartedAt: 2025-07-22 16:59:38 -0400 (Tue, 22 Jul 2025) EndedAt: 2025-07-22 17:01:49 -0400 (Tue, 22 Jul 2025) EllapsedTime: 130.5 seconds RetCode: 0 Status: OK