Package: appreci8R Version: 1.27.0 Command: /Library/Frameworks/R.framework/Resources/bin/R CMD INSTALL appreci8R StartedAt: 2025-07-04 15:48:18 -0400 (Fri, 04 Jul 2025) EndedAt: 2025-07-04 15:49:59 -0400 (Fri, 04 Jul 2025) EllapsedTime: 100.8 seconds RetCode: 0 Status: OK