Package: appreci8R Version: 1.27.0 Command: /Library/Frameworks/R.framework/Resources/bin/R CMD check --install=check:appreci8R.install-out.txt --library=/Library/Frameworks/R.framework/Resources/library --no-vignettes --timings appreci8R_1.27.0.tar.gz StartedAt: 2025-07-07 19:08:24 -0400 (Mon, 07 Jul 2025) EndedAt: 2025-07-07 19:14:50 -0400 (Mon, 07 Jul 2025) EllapsedTime: 385.7 seconds RetCode: 0 Status: OK CheckDir: appreci8R.Rcheck Warnings: 0