Package: appreci8R Version: 1.27.0 Command: /Library/Frameworks/R.framework/Resources/bin/R CMD build --keep-empty-dirs --no-resave-data appreci8R StartedAt: 2025-07-04 15:57:40 -0400 (Fri, 04 Jul 2025) EndedAt: 2025-07-04 16:00:51 -0400 (Fri, 04 Jul 2025) EllapsedTime: 190.8 seconds RetCode: 0 Status: OK PackageFile: appreci8R_1.27.0.tar.gz PackageFileSize: 1010 KiB