Package: appreci8R Version: 1.27.0 Command: rm -rf appreci8R.buildbin-libdir && mkdir appreci8R.buildbin-libdir && /Users/biocbuild/BBS/utils/build-universal.sh appreci8R_1.27.0.tar.gz /Library/Frameworks/R.framework/Resources/bin/R appreci8R.buildbin-libdir StartedAt: 2025-07-05 00:34:08 -0400 (Sat, 05 Jul 2025) EndedAt: 2025-07-05 00:35:55 -0400 (Sat, 05 Jul 2025) EllapsedTime: 107.0 seconds RetCode: 0 Status: OK PackageFile: appreci8R_1.27.0.tgz PackageFileSize: 1.446 MiB