Package: apeglm Version: 1.31.0 Command: chmod a+r apeglm -R && F:\biocbuild\bbs-3.22-bioc\R\bin\R.exe CMD build --keep-empty-dirs --no-resave-data apeglm StartedAt: 2025-07-20 17:20:48 -0400 (Sun, 20 Jul 2025) EndedAt: 2025-07-20 17:23:10 -0400 (Sun, 20 Jul 2025) EllapsedTime: 142.5 seconds RetCode: 0 Status: OK PackageFile: apeglm_1.31.0.tar.gz PackageFileSize: 447 KiB