Package: apComplex Version: 2.75.0 Command: rm -rf apComplex.buildbin-libdir && mkdir apComplex.buildbin-libdir && F:\biocbuild\bbs-3.22-bioc\R\bin\R.exe CMD INSTALL --build --library=apComplex.buildbin-libdir apComplex_2.75.0.tar.gz StartedAt: 2025-07-17 08:26:23 -0400 (Thu, 17 Jul 2025) EndedAt: 2025-07-17 08:26:47 -0400 (Thu, 17 Jul 2025) EllapsedTime: 24.1 seconds RetCode: 0 Status: OK PackageFile: apComplex_2.75.0.zip PackageFileSize: 692.2 KiB