Package: apComplex Version: 2.75.0 Command: /Library/Frameworks/R.framework/Resources/bin/R CMD INSTALL apComplex StartedAt: 2025-07-01 15:16:01 -0400 (Tue, 01 Jul 2025) EndedAt: 2025-07-01 15:16:06 -0400 (Tue, 01 Jul 2025) EllapsedTime: 5.6 seconds RetCode: 0 Status: OK