Package: apComplex Version: 2.75.0 Command: /Library/Frameworks/R.framework/Resources/bin/R CMD build --keep-empty-dirs --no-resave-data apComplex StartedAt: 2025-07-01 15:36:33 -0400 (Tue, 01 Jul 2025) EndedAt: 2025-07-01 15:36:44 -0400 (Tue, 01 Jul 2025) EllapsedTime: 10.1 seconds RetCode: 0 Status: OK PackageFile: apComplex_2.75.0.tar.gz PackageFileSize: 627.2 KiB