Package: apComplex Version: 2.75.0 Command: rm -rf apComplex.buildbin-libdir && mkdir apComplex.buildbin-libdir && /Users/biocbuild/BBS/utils/build-universal.sh apComplex_2.75.0.tar.gz /Library/Frameworks/R.framework/Resources/bin/R apComplex.buildbin-libdir StartedAt: 2025-07-01 22:10:31 -0400 (Tue, 01 Jul 2025) EndedAt: 2025-07-01 22:10:37 -0400 (Tue, 01 Jul 2025) EllapsedTime: 6.1 seconds RetCode: 0 Status: OK PackageFile: apComplex_2.75.0.tgz PackageFileSize: 687.3 KiB