Package: antiProfiles Version: 1.49.0 Command: /home/biocbuild/R/R/bin/R CMD INSTALL antiProfiles StartedAt: 2025-07-10 21:05:46 -0000 (Thu, 10 Jul 2025) EndedAt: 2025-07-10 21:06:18 -0000 (Thu, 10 Jul 2025) EllapsedTime: 31.2 seconds RetCode: 0 Status: OK