Package: antiProfiles Version: 1.49.0 Command: /home/biocbuild/R/R/bin/R CMD build --keep-empty-dirs --no-resave-data antiProfiles StartedAt: 2025-07-10 22:47:40 -0000 (Thu, 10 Jul 2025) EndedAt: 2025-07-10 22:47:47 -0000 (Thu, 10 Jul 2025) EllapsedTime: 7.0 seconds RetCode: 0 Status: OK PackageFile: antiProfiles_1.49.0.tar.gz PackageFileSize: 106.7 KiB