Package: antiProfiles Version: 1.49.0 Command: F:\biocbuild\bbs-3.22-bioc\R\bin\R.exe CMD INSTALL antiProfiles StartedAt: 2025-07-13 15:24:48 -0400 (Sun, 13 Jul 2025) EndedAt: 2025-07-13 15:25:22 -0400 (Sun, 13 Jul 2025) EllapsedTime: 34.2 seconds RetCode: 0 Status: OK