Package: antiProfiles Version: 1.49.0 Command: chmod a+r antiProfiles -R && F:\biocbuild\bbs-3.22-bioc\R\bin\R.exe CMD build --keep-empty-dirs --no-resave-data antiProfiles StartedAt: 2025-07-13 17:22:58 -0400 (Sun, 13 Jul 2025) EndedAt: 2025-07-13 17:23:55 -0400 (Sun, 13 Jul 2025) EllapsedTime: 56.2 seconds RetCode: 0 Status: OK PackageFile: antiProfiles_1.49.0.tar.gz PackageFileSize: 110.1 KiB