Package: antiProfiles Version: 1.49.0 Command: /home/biocbuild/bbs-3.22-bioc/R/bin/R CMD build --keep-empty-dirs --no-resave-data --md5 antiProfiles StartedAt: 2025-07-13 16:07:51 -0400 (Sun, 13 Jul 2025) EndedAt: 2025-07-13 16:07:58 -0400 (Sun, 13 Jul 2025) EllapsedTime: 7.0 seconds RetCode: 0 Status: OK PackageFile: antiProfiles_1.49.0.tar.gz PackageFileSize: 111.5 KiB