Package: anota2seq Version: 1.31.0 Command: /home/biocbuild/R/R/bin/R CMD INSTALL anota2seq StartedAt: 2025-10-02 20:41:02 -0000 (Thu, 02 Oct 2025) EndedAt: 2025-10-02 20:41:45 -0000 (Thu, 02 Oct 2025) EllapsedTime: 43.2 seconds RetCode: 0 Status: OK