Package: anota2seq Version: 1.31.0 Command: /home/biocbuild/R/R/bin/R CMD check --install=check:anota2seq.install-out.txt --library=/home/biocbuild/R/R/site-library --no-vignettes --timings anota2seq_1.31.0.tar.gz StartedAt: 2025-10-03 04:38:36 -0000 (Fri, 03 Oct 2025) EndedAt: 2025-10-03 04:44:29 -0000 (Fri, 03 Oct 2025) EllapsedTime: 353.7 seconds RetCode: 0 Status: OK CheckDir: anota2seq.Rcheck Warnings: 0