Package: anota2seq Version: 1.31.0 Command: /home/biocbuild/R/R/bin/R CMD build --keep-empty-dirs --no-resave-data anota2seq StartedAt: 2025-10-02 21:46:20 -0000 (Thu, 02 Oct 2025) EndedAt: 2025-10-02 21:50:00 -0000 (Thu, 02 Oct 2025) EllapsedTime: 220.1 seconds RetCode: 0 Status: OK PackageFile: anota2seq_1.31.0.tar.gz PackageFileSize: 998 KiB