Package: anota Version: 1.57.0 Command: /home/biocbuild/R/R/bin/R CMD INSTALL anota StartedAt: 2025-07-21 20:34:18 -0000 (Mon, 21 Jul 2025) EndedAt: 2025-07-21 20:34:30 -0000 (Mon, 21 Jul 2025) EllapsedTime: 12.7 seconds RetCode: 0 Status: OK