Package: anota Version: 1.57.0 Command: /home/biocbuild/R/R/bin/R CMD check --install=check:anota.install-out.txt --library=/home/biocbuild/R/R/site-library --no-vignettes --timings anota_1.57.0.tar.gz StartedAt: 2025-07-22 04:33:14 -0000 (Tue, 22 Jul 2025) EndedAt: 2025-07-22 04:35:09 -0000 (Tue, 22 Jul 2025) EllapsedTime: 115.3 seconds RetCode: 0 Status: OK CheckDir: anota.Rcheck Warnings: 0