Package: anota Version: 1.57.0 Command: F:\biocbuild\bbs-3.22-bioc\R\bin\R.exe CMD INSTALL anota StartedAt: 2025-07-24 15:45:44 -0400 (Thu, 24 Jul 2025) EndedAt: 2025-07-24 15:46:04 -0400 (Thu, 24 Jul 2025) EllapsedTime: 20.0 seconds RetCode: 0 Status: OK