Package: anota Version: 1.57.0 Command: chmod a+r anota -R && F:\biocbuild\bbs-3.22-bioc\R\bin\R.exe CMD build --keep-empty-dirs --no-resave-data anota StartedAt: 2025-07-24 17:31:10 -0400 (Thu, 24 Jul 2025) EndedAt: 2025-07-24 17:31:51 -0400 (Thu, 24 Jul 2025) EllapsedTime: 41.2 seconds RetCode: 0 Status: OK PackageFile: anota_1.57.0.tar.gz PackageFileSize: 829.9 KiB