Package: anota Version: 1.57.0 Command: /Library/Frameworks/R.framework/Resources/bin/R CMD INSTALL anota StartedAt: 2025-07-20 15:23:21 -0400 (Sun, 20 Jul 2025) EndedAt: 2025-07-20 15:23:35 -0400 (Sun, 20 Jul 2025) EllapsedTime: 13.8 seconds RetCode: 0 Status: OK