Package: anota Version: 1.57.0 Command: rm -rf anota.buildbin-libdir && mkdir anota.buildbin-libdir && /Users/biocbuild/BBS/utils/build-universal.sh anota_1.57.0.tar.gz /Library/Frameworks/R.framework/Resources/bin/R anota.buildbin-libdir StartedAt: 2025-07-21 00:50:56 -0400 (Mon, 21 Jul 2025) EndedAt: 2025-07-21 00:51:12 -0400 (Mon, 21 Jul 2025) EllapsedTime: 16.1 seconds RetCode: 0 Status: OK PackageFile: anota_1.57.0.tgz PackageFileSize: 711 KiB