Package: annmap Version: 1.51.0 Command: /Library/Frameworks/R.framework/Resources/bin/R CMD check --install=check:annmap.install-out.txt --library=/Library/Frameworks/R.framework/Resources/library --no-vignettes --timings annmap_1.51.0.tar.gz StartedAt: 2025-07-07 19:05:35 -0400 (Mon, 07 Jul 2025) EndedAt: 2025-07-07 19:08:33 -0400 (Mon, 07 Jul 2025) EllapsedTime: 178.3 seconds RetCode: 0 Status: WARNINGS CheckDir: annmap.Rcheck Warnings: 1