Package: annmap Version: 1.51.0 Command: /Library/Frameworks/R.framework/Resources/bin/R CMD build --keep-empty-dirs --no-resave-data annmap StartedAt: 2025-07-07 16:03:31 -0400 (Mon, 07 Jul 2025) EndedAt: 2025-07-07 16:04:09 -0400 (Mon, 07 Jul 2025) EllapsedTime: 37.8 seconds RetCode: 0 Status: OK PackageFile: annmap_1.51.0.tar.gz PackageFileSize: 1.004 MiB