Package: annmap Version: 1.51.0 Command: rm -rf annmap.buildbin-libdir && mkdir annmap.buildbin-libdir && /Users/biocbuild/BBS/utils/build-universal.sh annmap_1.51.0.tar.gz /Library/Frameworks/R.framework/Resources/bin/R annmap.buildbin-libdir StartedAt: 2025-07-08 00:40:58 -0400 (Tue, 08 Jul 2025) EndedAt: 2025-07-08 00:41:33 -0400 (Tue, 08 Jul 2025) EllapsedTime: 34.5 seconds RetCode: 0 Status: OK PackageFile: annmap_1.51.0.tgz PackageFileSize: 1.285 MiB