Package: annaffy Version: 1.81.0 Command: /home/biocbuild/R/R/bin/R CMD check --install=check:annaffy.install-out.txt --library=/home/biocbuild/R/R/site-library --no-vignettes --timings annaffy_1.81.0.tar.gz StartedAt: 2025-07-15 04:10:41 -0000 (Tue, 15 Jul 2025) EndedAt: 2025-07-15 04:12:45 -0000 (Tue, 15 Jul 2025) EllapsedTime: 124.2 seconds RetCode: 0 Status: WARNINGS CheckDir: annaffy.Rcheck Warnings: 1