Package: annaffy Version: 1.81.0 Command: /home/biocbuild/R/R/bin/R CMD build --keep-empty-dirs --no-resave-data annaffy StartedAt: 2025-07-14 21:36:24 -0000 (Mon, 14 Jul 2025) EndedAt: 2025-07-14 21:37:04 -0000 (Mon, 14 Jul 2025) EllapsedTime: 40.0 seconds RetCode: 0 Status: OK PackageFile: annaffy_1.81.0.tar.gz PackageFileSize: 309.2 KiB