Package: annaffy Version: 1.81.0 Command: F:\biocbuild\bbs-3.22-bioc\R\bin\R.exe CMD INSTALL annaffy StartedAt: 2025-07-20 15:41:33 -0400 (Sun, 20 Jul 2025) EndedAt: 2025-07-20 15:42:13 -0400 (Sun, 20 Jul 2025) EllapsedTime: 39.4 seconds RetCode: 0 Status: OK