Package: annaffy Version: 1.81.0 Command: chmod a+r annaffy -R && F:\biocbuild\bbs-3.22-bioc\R\bin\R.exe CMD build --keep-empty-dirs --no-resave-data annaffy StartedAt: 2025-07-20 17:18:23 -0400 (Sun, 20 Jul 2025) EndedAt: 2025-07-20 17:19:21 -0400 (Sun, 20 Jul 2025) EllapsedTime: 57.7 seconds RetCode: 0 Status: OK PackageFile: annaffy_1.81.0.tar.gz PackageFileSize: 201.9 KiB