Package: annaffy Version: 1.81.0 Command: rm -rf annaffy.buildbin-libdir && mkdir annaffy.buildbin-libdir && F:\biocbuild\bbs-3.22-bioc\R\bin\R.exe CMD INSTALL --build --library=annaffy.buildbin-libdir annaffy_1.81.0.tar.gz StartedAt: 2025-07-21 08:30:56 -0400 (Mon, 21 Jul 2025) EndedAt: 2025-07-21 08:31:40 -0400 (Mon, 21 Jul 2025) EllapsedTime: 43.9 seconds RetCode: 0 Status: OK PackageFile: annaffy_1.81.0.zip PackageFileSize: 596.4 KiB