Package: annaffy Version: 1.81.0 Command: /home/biocbuild/bbs-3.22-bioc/R/bin/R CMD build --keep-empty-dirs --no-resave-data --md5 annaffy StartedAt: 2025-07-02 16:18:52 -0400 (Wed, 02 Jul 2025) EndedAt: 2025-07-02 16:19:25 -0400 (Wed, 02 Jul 2025) EllapsedTime: 33.0 seconds RetCode: 0 Status: OK PackageFile: annaffy_1.81.0.tar.gz PackageFileSize: 317.9 KiB