Package: annaffy Version: 1.81.0 Command: /Library/Frameworks/R.framework/Resources/bin/R CMD INSTALL annaffy StartedAt: 2025-07-21 15:36:43 -0400 (Mon, 21 Jul 2025) EndedAt: 2025-07-21 15:37:06 -0400 (Mon, 21 Jul 2025) EllapsedTime: 22.9 seconds RetCode: 0 Status: OK