Package: annaffy Version: 1.81.0 Command: /Library/Frameworks/R.framework/Resources/bin/R CMD build --keep-empty-dirs --no-resave-data annaffy StartedAt: 2025-07-21 15:55:21 -0400 (Mon, 21 Jul 2025) EndedAt: 2025-07-21 15:55:57 -0400 (Mon, 21 Jul 2025) EllapsedTime: 35.4 seconds RetCode: 0 Status: OK PackageFile: annaffy_1.81.0.tar.gz PackageFileSize: 314.8 KiB