Package: annaffy Version: 1.81.0 Command: rm -rf annaffy.buildbin-libdir && mkdir annaffy.buildbin-libdir && /Users/biocbuild/BBS/utils/build-universal.sh annaffy_1.81.0.tar.gz /Library/Frameworks/R.framework/Resources/bin/R annaffy.buildbin-libdir StartedAt: 2025-07-22 00:48:43 -0400 (Tue, 22 Jul 2025) EndedAt: 2025-07-22 00:49:09 -0400 (Tue, 22 Jul 2025) EllapsedTime: 26.5 seconds RetCode: 0 Status: OK PackageFile: annaffy_1.81.0.tgz PackageFileSize: 705.9 KiB