Package: annaffy Version: 1.81.0 Command: /Library/Frameworks/R.framework/Resources/bin/R CMD INSTALL annaffy StartedAt: 2025-07-11 15:22:22 -0400 (Fri, 11 Jul 2025) EndedAt: 2025-07-11 15:22:29 -0400 (Fri, 11 Jul 2025) EllapsedTime: 6.6 seconds RetCode: 0 Status: OK