Package: animalcules Version: 1.25.0 Command: /home/biocbuild/R/R/bin/R CMD check --install=check:animalcules.install-out.txt --library=/home/biocbuild/R/R/site-library --no-vignettes --timings animalcules_1.25.0.tar.gz StartedAt: 2025-07-22 04:31:10 -0000 (Tue, 22 Jul 2025) EndedAt: 2025-07-22 04:38:02 -0000 (Tue, 22 Jul 2025) EllapsedTime: 412.0 seconds RetCode: 0 Status: OK CheckDir: animalcules.Rcheck Warnings: 0