Package: animalcules Version: 1.25.0 Command: F:\biocbuild\bbs-3.22-bioc\R\bin\R.exe CMD INSTALL animalcules StartedAt: 2025-07-22 16:47:34 -0400 (Tue, 22 Jul 2025) EndedAt: 2025-07-22 16:48:32 -0400 (Tue, 22 Jul 2025) EllapsedTime: 59.0 seconds RetCode: 0 Status: OK