Package: animalcules Version: 1.25.0 Command: /home/biocbuild/bbs-3.22-bioc/R/bin/R CMD INSTALL animalcules StartedAt: 2025-07-02 15:26:01 -0400 (Wed, 02 Jul 2025) EndedAt: 2025-07-02 15:26:34 -0400 (Wed, 02 Jul 2025) EllapsedTime: 33.2 seconds RetCode: 0 Status: OK