Package: animalcules Version: 1.25.0 Command: /home/biocbuild/bbs-3.22-bioc/R/bin/R CMD check --install=check:animalcules.install-out.txt --library=/home/biocbuild/bbs-3.22-bioc/R/site-library --timings animalcules_1.25.0.tar.gz StartedAt: 2025-07-02 20:07:39 -0400 (Wed, 02 Jul 2025) EndedAt: 2025-07-02 20:12:25 -0400 (Wed, 02 Jul 2025) EllapsedTime: 285.5 seconds RetCode: 0 Status: OK CheckDir: animalcules.Rcheck Warnings: 0