Package: animalcules Version: 1.25.0 Command: /Library/Frameworks/R.framework/Resources/bin/R CMD INSTALL animalcules StartedAt: 2025-07-16 15:21:00 -0400 (Wed, 16 Jul 2025) EndedAt: 2025-07-16 15:21:44 -0400 (Wed, 16 Jul 2025) EllapsedTime: 43.6 seconds RetCode: 0 Status: OK