Package: animalcules Version: 1.25.0 Command: /Library/Frameworks/R.framework/Resources/bin/R CMD check --install=check:animalcules.install-out.txt --library=/Library/Frameworks/R.framework/Resources/library --no-vignettes --timings animalcules_1.25.0.tar.gz StartedAt: 2025-07-17 19:00:52 -0400 (Thu, 17 Jul 2025) EndedAt: 2025-07-17 19:05:50 -0400 (Thu, 17 Jul 2025) EllapsedTime: 298.6 seconds RetCode: 0 Status: OK CheckDir: animalcules.Rcheck Warnings: 0