Package: animalcules Version: 1.25.0 Command: /Library/Frameworks/R.framework/Resources/bin/R CMD build --keep-empty-dirs --no-resave-data animalcules StartedAt: 2025-07-22 15:36:08 -0400 (Tue, 22 Jul 2025) EndedAt: 2025-07-22 15:36:32 -0400 (Tue, 22 Jul 2025) EllapsedTime: 24.3 seconds RetCode: 0 Status: OK PackageFile: animalcules_1.25.0.tar.gz PackageFileSize: 3.325 MiB