Package: anglemania Version: 0.99.6 Command: /Library/Frameworks/R.framework/Resources/bin/R CMD INSTALL anglemania StartedAt: 2025-10-07 15:13:58 -0400 (Tue, 07 Oct 2025) EndedAt: 2025-10-07 15:13:59 -0400 (Tue, 07 Oct 2025) EllapsedTime: 1.1 seconds RetCode: 1 Status: ERROR