Package: anglemania Version: 0.99.6 Command: /Library/Frameworks/R.framework/Resources/bin/R CMD check --install=check:anglemania.install-out.txt --library=/Library/Frameworks/R.framework/Resources/library --no-vignettes --timings anglemania_0.99.6.tar.gz StartedAt: 2025-10-08 18:18:18 -0400 (Wed, 08 Oct 2025) EndedAt: 2025-10-08 18:18:22 -0400 (Wed, 08 Oct 2025) EllapsedTime: 4.1 seconds RetCode: 1 Status: ERROR CheckDir: anglemania.Rcheck Warnings: NA