Package: amplican Version: 1.31.1 Command: /home/biocbuild/R/R/bin/R CMD build --keep-empty-dirs --no-resave-data amplican StartedAt: 2025-07-10 22:45:37 -0000 (Thu, 10 Jul 2025) EndedAt: 2025-07-10 22:47:59 -0000 (Thu, 10 Jul 2025) EllapsedTime: 142.1 seconds RetCode: 0 Status: OK PackageFile: amplican_1.31.1.tar.gz PackageFileSize: 7.662 MiB