Package: amplican Version: 1.31.2 Command: F:\biocbuild\bbs-3.22-bioc\R\bin\R.exe CMD INSTALL amplican StartedAt: 2025-07-20 16:21:49 -0400 (Sun, 20 Jul 2025) EndedAt: 2025-07-20 16:22:58 -0400 (Sun, 20 Jul 2025) EllapsedTime: 69.3 seconds RetCode: 0 Status: OK