Package: amplican Version: 1.31.2 Command: /Library/Frameworks/R.framework/Resources/bin/R CMD check --install=check:amplican.install-out.txt --library=/Library/Frameworks/R.framework/Resources/library --no-vignettes --timings amplican_1.31.2.tar.gz StartedAt: 2025-07-21 18:01:36 -0400 (Mon, 21 Jul 2025) EndedAt: 2025-07-21 18:02:41 -0400 (Mon, 21 Jul 2025) EllapsedTime: 64.8 seconds RetCode: 0 Status: OK CheckDir: amplican.Rcheck Warnings: 0