Package: amplican Version: 1.31.2 Command: rm -rf amplican.buildbin-libdir && mkdir amplican.buildbin-libdir && /Users/biocbuild/BBS/utils/build-universal.sh amplican_1.31.2.tar.gz /Library/Frameworks/R.framework/Resources/bin/R amplican.buildbin-libdir StartedAt: 2025-07-20 22:17:12 -0400 (Sun, 20 Jul 2025) EndedAt: 2025-07-20 22:17:22 -0400 (Sun, 20 Jul 2025) EllapsedTime: 10.2 seconds RetCode: 0 Status: OK PackageFile: amplican_1.31.2.tgz PackageFileSize: 9.618 MiB